BEGIN:VCALENDAR
VERSION:2.0
PRODID:-//Harris County Domestic Violence Coordinating Council - ECPv6.15.20//NONSGML v1.0//EN
CALSCALE:GREGORIAN
METHOD:PUBLISH
X-WR-CALNAME:Harris County Domestic Violence Coordinating Council
X-ORIGINAL-URL:https://www.hcdvcc.org
X-WR-CALDESC:Events for Harris County Domestic Violence Coordinating Council
REFRESH-INTERVAL;VALUE=DURATION:PT1H
X-Robots-Tag:noindex
X-PUBLISHED-TTL:PT1H
BEGIN:VTIMEZONE
TZID:America/Chicago
BEGIN:DAYLIGHT
TZOFFSETFROM:-0600
TZOFFSETTO:-0500
TZNAME:CDT
DTSTART:20250309T080000
END:DAYLIGHT
BEGIN:STANDARD
TZOFFSETFROM:-0500
TZOFFSETTO:-0600
TZNAME:CST
DTSTART:20251102T070000
END:STANDARD
BEGIN:DAYLIGHT
TZOFFSETFROM:-0600
TZOFFSETTO:-0500
TZNAME:CDT
DTSTART:20260308T080000
END:DAYLIGHT
BEGIN:STANDARD
TZOFFSETFROM:-0500
TZOFFSETTO:-0600
TZNAME:CST
DTSTART:20261101T070000
END:STANDARD
BEGIN:DAYLIGHT
TZOFFSETFROM:-0600
TZOFFSETTO:-0500
TZNAME:CDT
DTSTART:20270314T080000
END:DAYLIGHT
BEGIN:STANDARD
TZOFFSETFROM:-0500
TZOFFSETTO:-0600
TZNAME:CST
DTSTART:20271107T070000
END:STANDARD
END:VTIMEZONE
BEGIN:VEVENT
DTSTART;TZID=America/Chicago:20260212T143000
DTEND;TZID=America/Chicago:20260212T160000
DTSTAMP:20260423T165429
CREATED:20251210T191212Z
LAST-MODIFIED:20260113T162407Z
UID:10000231-1770906600-1770912000@www.hcdvcc.org
SUMMARY:February Community Partner Meeting
DESCRIPTION:You’re invited to our Monthly Community Partner Meeting\, where community voices come together to shape our shared future. \n\n\n\nTopic: Immigration & Legal Updates \n\n\n\nThis presentation will cover an update on law and policy changes impacting immigrant survivors of domestic violence\, sexual assault\, human trafficking\, and other forms of violence over the last year. The training will also briefly include important tools for advocates serving survivors and tips for enhanced safety planning. \n\n\n\n\n\n\n\nABOUT THE SPEAKER: \n\n\n\nKatharina Dechert is the Houston Policy & Advocacy Manager at the Tahirih Justice Center. Katharina leads the advancement of Tahirih’s Houston and Texas advocacy campaigns to change the laws and policies that prevent immigrant survivors from accessing safety and justice. Before stepping into this role\, she worked on Tahirih’s legal team for 6 years as a legal advocate\, working with immigrant survivors as they navigate various legal systems in their journeys to safety and justice\, and representing survivors before USCIS as a DOJ Accredited Representative. \n\n\n\n\n\n\n\nWhen you register\, you’ll be added to our newsletter so you can stay connected and hear about upcoming events and updates. \n\n\n\n\n\nIf you have questions\, please contact:
URL:https://www.hcdvcc.org/event/february-community-partner-meeting/
LOCATION:United Way of Greater Houston\, 50 Waugh Street\, Houston\, TX\, United States
CATEGORIES:Community Partner Meeting,Community Partner Meetings
ATTACH;FMTTYPE=image/png:https://www.hcdvcc.org/wp-content/uploads/2025/12/Feb-November-Community-Partner-Meeting-.png
ORGANIZER;CN="Thecia Jenkins":MAILTO:theciajenkins@hcdvcc.org
END:VEVENT
BEGIN:VEVENT
DTSTART;TZID=America/Chicago:20260130T130000
DTEND;TZID=America/Chicago:20260130T150000
DTSTAMP:20260423T165429
CREATED:20260121T192946Z
LAST-MODIFIED:20260128T151425Z
UID:10000235-1769778000-1769785200@www.hcdvcc.org
SUMMARY:Enhanced Safety Planning For Survivors of Domestic Violence
DESCRIPTION:FULL-THIS TRAINING HAS REACHED CAPACITYThis training will explore how advocates and organizations can develop responsive\, trauma-informed safety strategies and strengthen organizational preparedness.Topics will include key recent policy and protocol changes impacting immigrant survivors\, tools for enhanced safety planning within the law and considerations for organizations. Registrations must be completed using your agency email address. After registering\, you’ll receive a confirmation email within two business days with more details.\n\n\n\n\n\n\n\n\n\nWhen you register\, you’ll be added to our newsletter so you can stay connected and hear about upcoming events and updates.
URL:https://www.hcdvcc.org/event/tjc-safety-planning2-for-survivors/
CATEGORIES:Community Events,Trainings
ATTACH;FMTTYPE=image/png:https://www.hcdvcc.org/wp-content/uploads/2026/01/tjc-safetyplanning-SM_Newsletter-friday.png
ORGANIZER;CN="Thecia Jenkins":MAILTO:theciajenkins@hcdvcc.org
END:VEVENT
BEGIN:VEVENT
DTSTART;TZID=America/Chicago:20260129T100000
DTEND;TZID=America/Chicago:20260129T120000
DTSTAMP:20260423T165429
CREATED:20260112T170726Z
LAST-MODIFIED:20260128T151600Z
UID:10000234-1769680800-1769688000@www.hcdvcc.org
SUMMARY:Enhanced Safety Planning For Survivors of Domestic Violence
DESCRIPTION:This training will explore how advocates and organizations can develop responsive\, trauma-informed safety strategies and strengthen organizational preparedness.Topics will include key recent policy and protocol changes impacting immigrant survivors\, tools for enhanced safety planning within the law and considerations for organizations. BOTH OF THESE TRAININGS ARE AT CAPACITY\n\n\n\n\n\n\n\nWhen you register\, you’ll be added to our newsletter so you can stay connected and hear about upcoming events and updates.
URL:https://www.hcdvcc.org/event/tjc-safetyplanning/
CATEGORIES:Community Events,Trainings
ATTACH;FMTTYPE=image/png:https://www.hcdvcc.org/wp-content/uploads/2026/01/tjc-safetyplanning-SMNewsletter-2.png
ORGANIZER;CN="Thecia Jenkins":MAILTO:theciajenkins@hcdvcc.org
END:VEVENT
END:VCALENDAR