BEGIN:VCALENDAR
VERSION:2.0
PRODID:-//Harris County Domestic Violence Coordinating Council - ECPv6.15.20//NONSGML v1.0//EN
CALSCALE:GREGORIAN
METHOD:PUBLISH
X-ORIGINAL-URL:https://www.hcdvcc.org
X-WR-CALDESC:Events for Harris County Domestic Violence Coordinating Council
REFRESH-INTERVAL;VALUE=DURATION:PT1H
X-Robots-Tag:noindex
X-PUBLISHED-TTL:PT1H
BEGIN:VTIMEZONE
TZID:America/Chicago
BEGIN:DAYLIGHT
TZOFFSETFROM:-0600
TZOFFSETTO:-0500
TZNAME:CDT
DTSTART:20250309T080000
END:DAYLIGHT
BEGIN:STANDARD
TZOFFSETFROM:-0500
TZOFFSETTO:-0600
TZNAME:CST
DTSTART:20251102T070000
END:STANDARD
BEGIN:DAYLIGHT
TZOFFSETFROM:-0600
TZOFFSETTO:-0500
TZNAME:CDT
DTSTART:20260308T080000
END:DAYLIGHT
BEGIN:STANDARD
TZOFFSETFROM:-0500
TZOFFSETTO:-0600
TZNAME:CST
DTSTART:20261101T070000
END:STANDARD
BEGIN:DAYLIGHT
TZOFFSETFROM:-0600
TZOFFSETTO:-0500
TZNAME:CDT
DTSTART:20270314T080000
END:DAYLIGHT
BEGIN:STANDARD
TZOFFSETFROM:-0500
TZOFFSETTO:-0600
TZNAME:CST
DTSTART:20271107T070000
END:STANDARD
END:VTIMEZONE
BEGIN:VEVENT
DTSTART;TZID=America/Chicago:20260219T103000
DTEND;TZID=America/Chicago:20260219T120000
DTSTAMP:20260423T163537
CREATED:20260212T163944Z
LAST-MODIFIED:20260218T184817Z
UID:10000236-1771497000-1771502400@www.hcdvcc.org
SUMMARY:CANCELED “Building on Culture and Community”: Unpacking the Need for Culturally Responsive Services when Supporting Black Women Survivors
DESCRIPTION:THIS SESSION HAS BEEN CANCELED  \n\n\n\n Join Ujima’s Training and Technical Assistance Manager\, Ayana Wallace Vieux\, for an interactive workshop which will explore strategies and unpack current realities for Black survivors\, that enhance advocate capacity by building from the cultures and community of the survivors they serve.  \n\n\n\nThroughout this workshop\, participants will: \n\n\n\n\nUnpack layered violence and the multitude of ways in which it impacts Black women.\n\n\n\nDelve into modern day experiences of Black survivors seeking domestic violence resources.\n\n\n\nExplore the ways in which a trauma-informed\, person-centered\, and culturally responsive approach best supports survivors.\n\n\n\n\nAbout our speaker: \n\n\n\nAyana Wallace Vieux\, MS\, is a Training and Technical Assistance Manager with Ujima\, The National Center on Violence Against Women in the Black Community. Ayana’s career began as a client case coordinator providing direct services and support to victim-survivors who sought emergency shelter. Ayana has been instrumental in the national implementation of the Lethality Assessment Program—Maryland Model (LAP) and has served as the lead trainer for the Maryland Network Against Domestic Violence\, the state coalition. Ayana has worked for over a decade in the domestic violence field providing both direct service to survivors and technical assistance to advocates\, law enforcement\, community-based partners\, and faith communities.
URL:https://www.hcdvcc.org/event/building-on-culture-and-community-unpacking-the-need-for-culturally-responsive-services-when-supporting-black-women-survivors/
ATTACH;FMTTYPE=image/png:https://www.hcdvcc.org/wp-content/uploads/2026/02/tjc-safetyplanning-SMNewsletter-friday.png
ORGANIZER;CN="Thecia Jenkins":MAILTO:theciajenkins@hcdvcc.org
END:VEVENT
END:VCALENDAR