BEGIN:VCALENDAR
VERSION:2.0
PRODID:-//Harris County Domestic Violence Coordinating Council - ECPv6.15.20//NONSGML v1.0//EN
CALSCALE:GREGORIAN
METHOD:PUBLISH
X-WR-CALNAME:Harris County Domestic Violence Coordinating Council
X-ORIGINAL-URL:https://www.hcdvcc.org
X-WR-CALDESC:Events for Harris County Domestic Violence Coordinating Council
REFRESH-INTERVAL;VALUE=DURATION:PT1H
X-Robots-Tag:noindex
X-PUBLISHED-TTL:PT1H
BEGIN:VTIMEZONE
TZID:America/Chicago
BEGIN:DAYLIGHT
TZOFFSETFROM:-0600
TZOFFSETTO:-0500
TZNAME:CDT
DTSTART:20250309T080000
END:DAYLIGHT
BEGIN:STANDARD
TZOFFSETFROM:-0500
TZOFFSETTO:-0600
TZNAME:CST
DTSTART:20251102T070000
END:STANDARD
BEGIN:DAYLIGHT
TZOFFSETFROM:-0600
TZOFFSETTO:-0500
TZNAME:CDT
DTSTART:20260308T080000
END:DAYLIGHT
BEGIN:STANDARD
TZOFFSETFROM:-0500
TZOFFSETTO:-0600
TZNAME:CST
DTSTART:20261101T070000
END:STANDARD
BEGIN:DAYLIGHT
TZOFFSETFROM:-0600
TZOFFSETTO:-0500
TZNAME:CDT
DTSTART:20270314T080000
END:DAYLIGHT
BEGIN:STANDARD
TZOFFSETFROM:-0500
TZOFFSETTO:-0600
TZNAME:CST
DTSTART:20271107T070000
END:STANDARD
END:VTIMEZONE
BEGIN:VEVENT
DTSTART;TZID=America/Chicago:20260326T103000
DTEND;TZID=America/Chicago:20260326T120000
DTSTAMP:20260423T134025
CREATED:20260302T184054Z
LAST-MODIFIED:20260303T165420Z
UID:10000237-1774521000-1774526400@www.hcdvcc.org
SUMMARY:Training:  Trauma-Informed Responses for Advocates Working with Children & Youth
DESCRIPTION:This interactive session\, “What’s Wrong With Those Kids?”\, reframes challenging youth behavior through a trauma-informed lens. Designed for advocates\, church leaders\, and crisis center staff\, this 90-minute toolkit equips participants to recognize the impact of witnessing intimate partner violence\, respond without re-traumatizing\, and implement practical documentation and referral strategies. Participants will leave with concrete job aids\, language scripts\, and confidence to support children and youth affected by domestic violence while strengthening their organization’s trauma-informed practices.This is a virtual training on Zoom.
URL:https://www.hcdvcc.org/event/training-whats-wrong-with-those-kids-trauma-informed-response-for-advocates-working-with-children-youth/
END:VEVENT
BEGIN:VEVENT
DTSTART;TZID=America/Chicago:20260328T093000
DTEND;TZID=America/Chicago:20260328T130000
DTSTAMP:20260423T134025
CREATED:20260302T185824Z
LAST-MODIFIED:20260319T163934Z
UID:10000238-1774690200-1774702800@www.hcdvcc.org
SUMMARY:Practical Law Seminar: Legal Tools for Moving Forward
DESCRIPTION:Join us for Legal Day: Practical Law – Legal Tools for Moving Forward\, a free\, in-person event offering legal education and direct access to attorneys for survivors of domestic violence. \n\n\n\nAttend short\, practical sessions on key legal topics and connect with attorneys through one-on-one consultations and small group discussions. You’ll also have the opportunity to explore resources from community organizations offering additional support. \n\n\n\n\nLunch will be provided\, and confidential registration options are available for safety.
URL:https://www.hcdvcc.org/event/practical-law-seminar-legal-tools-for-moving-forward/
LOCATION:The Montrose Center\, 401 Branard Street\, Houston\, Texas\, 77006\, United States
END:VEVENT
END:VCALENDAR